BEGIN:VCALENDAR
VERSION:2.0
PRODID:-//Collège Beaulieu - Châteauroux - ECPv6.10.1.1//NONSGML v1.0//EN
CALSCALE:GREGORIAN
METHOD:PUBLISH
X-WR-CALNAME:Collège Beaulieu - Châteauroux
X-ORIGINAL-URL:https://clgbeaulieu36.fr
X-WR-CALDESC:Évènements pour Collège Beaulieu - Châteauroux
REFRESH-INTERVAL;VALUE=DURATION:PT1H
X-Robots-Tag:noindex
X-PUBLISHED-TTL:PT1H
BEGIN:VTIMEZONE
TZID:Europe/Paris
BEGIN:DAYLIGHT
TZOFFSETFROM:+0100
TZOFFSETTO:+0200
TZNAME:CEST
DTSTART:20210328T010000
END:DAYLIGHT
BEGIN:STANDARD
TZOFFSETFROM:+0200
TZOFFSETTO:+0100
TZNAME:CET
DTSTART:20211031T010000
END:STANDARD
END:VTIMEZONE
BEGIN:VEVENT
DTSTART;VALUE=DATE:20210405
DTEND;VALUE=DATE:20210406
DTSTAMP:20260423T044027
CREATED:20210401T124626Z
LAST-MODIFIED:20210401T124644Z
UID:3021-1617580800-1617667199@clgbeaulieu36.fr
SUMMARY:Férié : Lundi de Pâques
DESCRIPTION:Pas de cours.
URL:https://clgbeaulieu36.fr/evenement/ferie-lundi-de-paques/
END:VEVENT
BEGIN:VEVENT
DTSTART;VALUE=DATE:20210406
DTEND;VALUE=DATE:20210410
DTSTAMP:20260423T044027
CREATED:20210401T123517Z
LAST-MODIFIED:20210401T123526Z
UID:3014-1617667200-1618012799@clgbeaulieu36.fr
SUMMARY:Semaine de cours à distance
DESCRIPTION:Conformément aux annonces gouvernementales\, les cours se feront à distance pour tous les  élèves du collège sur la semaine 14 du 6 au 9 avril 2021. 
URL:https://clgbeaulieu36.fr/evenement/semaine-de-cours-a-distance/
END:VEVENT
BEGIN:VEVENT
DTSTART;VALUE=DATE:20210410
DTEND;VALUE=DATE:20210426
DTSTAMP:20260423T044027
CREATED:20200820T121118Z
LAST-MODIFIED:20210401T122824Z
UID:2219-1618012800-1619395199@clgbeaulieu36.fr
SUMMARY:Vacances de printemps (Zones A\, B et C)
DESCRIPTION:Vacances de printemps (zones A\, B et C) : du samedi 10 au dimanche 25 avril 2021.
URL:https://clgbeaulieu36.fr/evenement/vacances-de-printemps-zone-b-4/
END:VEVENT
BEGIN:VEVENT
DTSTART;VALUE=DATE:20210426
DTEND;VALUE=DATE:20210501
DTSTAMP:20260423T044027
CREATED:20210401T123704Z
LAST-MODIFIED:20210401T123704Z
UID:3016-1619395200-1619827199@clgbeaulieu36.fr
SUMMARY:Semaine de cours à distance
DESCRIPTION:Conformément aux annonces gouvernementales\, les cours se feront à distance pour tous les  élèves du collège sur la semaine 17 du 26 au 30 avril 2021. 
URL:https://clgbeaulieu36.fr/evenement/semaine-de-cours-a-distance-2/
END:VEVENT
END:VCALENDAR