BEGIN:VCALENDAR
VERSION:2.0
PRODID:-//Collège Beaulieu - Châteauroux - ECPv6.10.1.1//NONSGML v1.0//EN
CALSCALE:GREGORIAN
METHOD:PUBLISH
X-WR-CALNAME:Collège Beaulieu - Châteauroux
X-ORIGINAL-URL:https://clgbeaulieu36.fr
X-WR-CALDESC:Évènements pour Collège Beaulieu - Châteauroux
REFRESH-INTERVAL;VALUE=DURATION:PT1H
X-Robots-Tag:noindex
X-PUBLISHED-TTL:PT1H
BEGIN:VTIMEZONE
TZID:Europe/Paris
BEGIN:DAYLIGHT
TZOFFSETFROM:+0100
TZOFFSETTO:+0200
TZNAME:CEST
DTSTART:20200329T010000
END:DAYLIGHT
BEGIN:STANDARD
TZOFFSETFROM:+0200
TZOFFSETTO:+0100
TZNAME:CET
DTSTART:20201025T010000
END:STANDARD
END:VTIMEZONE
BEGIN:VEVENT
DTSTART;TZID=Europe/Paris:20200215T000000
DTEND;TZID=Europe/Paris:20200301T235900
DTSTAMP:20260424T011805
CREATED:20190917T123412Z
LAST-MODIFIED:20190917T123412Z
UID:1390-1581724800-1583107140@clgbeaulieu36.fr
SUMMARY:Vacances d'hiver (Zone B)
DESCRIPTION:
URL:https://clgbeaulieu36.fr/evenement/vacances-dhiver-zone-b-3/
END:VEVENT
BEGIN:VEVENT
DTSTART;VALUE=DATE:20200302
DTEND;VALUE=DATE:20200303
DTSTAMP:20260424T011805
CREATED:20190917T123150Z
LAST-MODIFIED:20190917T123150Z
UID:1384-1583107200-1583193599@clgbeaulieu36.fr
SUMMARY:Début du 3e trimestre
DESCRIPTION:
URL:https://clgbeaulieu36.fr/evenement/debut-du-3e-trimestre/
END:VEVENT
END:VCALENDAR