BEGIN:VCALENDAR
VERSION:2.0
PRODID:-//Collège Beaulieu - Châteauroux - ECPv6.10.1.1//NONSGML v1.0//EN
CALSCALE:GREGORIAN
METHOD:PUBLISH
X-ORIGINAL-URL:https://clgbeaulieu36.fr
X-WR-CALDESC:Évènements pour Collège Beaulieu - Châteauroux
REFRESH-INTERVAL;VALUE=DURATION:PT1H
X-Robots-Tag:noindex
X-PUBLISHED-TTL:PT1H
BEGIN:VTIMEZONE
TZID:Europe/Paris
BEGIN:DAYLIGHT
TZOFFSETFROM:+0100
TZOFFSETTO:+0200
TZNAME:CEST
DTSTART:20190331T010000
END:DAYLIGHT
BEGIN:STANDARD
TZOFFSETFROM:+0200
TZOFFSETTO:+0100
TZNAME:CET
DTSTART:20191027T010000
END:STANDARD
END:VTIMEZONE
BEGIN:VEVENT
DTSTART;TZID=Europe/Paris:20190529T113000
DTEND;TZID=Europe/Paris:20190603T082000
DTSTAMP:20260424T145031
CREATED:20190208T182659Z
LAST-MODIFIED:20190208T182659Z
UID:1026-1559129400-1559550000@clgbeaulieu36.fr
SUMMARY:Pont de l'ascension
DESCRIPTION:Les cours seront vaqués du mercredi 29 mai après la classe au lundi 3 juin au matin (Pont de l’ascension).
URL:https://clgbeaulieu36.fr/evenement/pont-de-lascension/
END:VEVENT
BEGIN:VEVENT
DTSTART;TZID=Europe/Paris:20190606T080000
DTEND;TZID=Europe/Paris:20190606T170000
DTSTAMP:20260424T145031
CREATED:20190208T185033Z
LAST-MODIFIED:20190208T185033Z
UID:1035-1559808000-1559840400@clgbeaulieu36.fr
SUMMARY:DELF 2019 - niveau A2
DESCRIPTION:Passage du DELF niveau A2 pour les élèves de l’UPE2A du collège. \nLieu des passations : Lycée Blaise Pascal – 27 Boulevard Blaise Pascal – 36000 Châteauroux \n 
URL:https://clgbeaulieu36.fr/evenement/delf-2019-niveau-a2/
END:VEVENT
BEGIN:VEVENT
DTSTART;TZID=Europe/Paris:20190607T130000
DTEND;TZID=Europe/Paris:20190607T150000
DTSTAMP:20260424T145031
CREATED:20190303T111048Z
LAST-MODIFIED:20190303T111048Z
UID:1052-1559912400-1559919600@clgbeaulieu36.fr
SUMMARY:Little Shop Beaulieu - Vente de vêtements - Foyer
DESCRIPTION:Ouvert à tous au Foyer du collège. 
URL:https://clgbeaulieu36.fr/evenement/little-shop-beaulieu-vente-de-vetements-foyer-2/
LOCATION:Foyer – Collège Beaulieu
END:VEVENT
BEGIN:VEVENT
DTSTART;TZID=Europe/Paris:20190607T140000
DTEND;TZID=Europe/Paris:20190607T170000
DTSTAMP:20260424T145031
CREATED:20190208T184741Z
LAST-MODIFIED:20190208T184741Z
UID:1033-1559916000-1559926800@clgbeaulieu36.fr
SUMMARY:DNB 2019 - Oral de soutenance
DESCRIPTION:
URL:https://clgbeaulieu36.fr/evenement/dnb-2019-oral-de-soutenance/
END:VEVENT
BEGIN:VEVENT
DTSTART;TZID=Europe/Paris:20190626T113000
DTEND;TZID=Europe/Paris:20190626T123000
DTSTAMP:20260424T145031
CREATED:20190625T203218Z
LAST-MODIFIED:20190625T203218Z
UID:1270-1561548600-1561552200@clgbeaulieu36.fr
SUMMARY:Fin des cous pour les 6e\, 5e\, 4e et 3e
DESCRIPTION:Le collège étant centre d’examen cette année\, les cours prendront fin définitivement le mercredi 26 juin 2019 à 11h30. \nLes enseignants se réuniront en équipe et en conseils d’enseignement les 26 et 27 juin. \nLes épreuves du DNB se tiendront les 1er et 2 juillet 2019. Les corrections se feront les 4 et 5 juillet. \n 
URL:https://clgbeaulieu36.fr/evenement/fin-des-cous-pour-les-6e-5e-4e-et-3e/
END:VEVENT
END:VCALENDAR