BEGIN:VCALENDAR
VERSION:2.0
PRODID:-//Collège Beaulieu - Châteauroux - ECPv6.10.1.1//NONSGML v1.0//EN
CALSCALE:GREGORIAN
METHOD:PUBLISH
X-ORIGINAL-URL:https://clgbeaulieu36.fr
X-WR-CALDESC:Évènements pour Collège Beaulieu - Châteauroux
REFRESH-INTERVAL;VALUE=DURATION:PT1H
X-Robots-Tag:noindex
X-PUBLISHED-TTL:PT1H
BEGIN:VTIMEZONE
TZID:Europe/Paris
BEGIN:DAYLIGHT
TZOFFSETFROM:+0100
TZOFFSETTO:+0200
TZNAME:CEST
DTSTART:20190331T010000
END:DAYLIGHT
BEGIN:STANDARD
TZOFFSETFROM:+0200
TZOFFSETTO:+0100
TZNAME:CET
DTSTART:20191027T010000
END:STANDARD
END:VTIMEZONE
BEGIN:VEVENT
DTSTART;TZID=Europe/Paris:20190405T170000
DTEND;TZID=Europe/Paris:20190423T082000
DTSTAMP:20260424T175454
CREATED:20190208T182344Z
LAST-MODIFIED:20190208T182844Z
UID:1022-1554483600-1556007600@clgbeaulieu36.fr
SUMMARY:Vacances de printemps (Zone B)
DESCRIPTION:Fin des cours le vendredi 5 avril au soir. \n/!\ Pas de cours le lundi 22 avril 2019 = lundi de Pâques (férié) /!\ \nReprise des cours le mardi 23 avril au matin. \n 
URL:https://clgbeaulieu36.fr/evenement/vacances-de-printemps-zone-b-2/
END:VEVENT
END:VCALENDAR