BEGIN:VCALENDAR
VERSION:2.0
PRODID:-//Collège Beaulieu - Châteauroux - ECPv6.10.1.1//NONSGML v1.0//EN
CALSCALE:GREGORIAN
METHOD:PUBLISH
X-WR-CALNAME:Collège Beaulieu - Châteauroux
X-ORIGINAL-URL:https://clgbeaulieu36.fr
X-WR-CALDESC:Évènements pour Collège Beaulieu - Châteauroux
REFRESH-INTERVAL;VALUE=DURATION:PT1H
X-Robots-Tag:noindex
X-PUBLISHED-TTL:PT1H
BEGIN:VTIMEZONE
TZID:Europe/Paris
BEGIN:DAYLIGHT
TZOFFSETFROM:+0100
TZOFFSETTO:+0200
TZNAME:CEST
DTSTART:20190331T010000
END:DAYLIGHT
BEGIN:STANDARD
TZOFFSETFROM:+0200
TZOFFSETTO:+0100
TZNAME:CET
DTSTART:20191027T010000
END:STANDARD
END:VTIMEZONE
BEGIN:VEVENT
DTSTART;VALUE=DATE:20190315
DTEND;VALUE=DATE:20190316
DTSTAMP:20260424T192949
CREATED:20190208T180540Z
LAST-MODIFIED:20190208T180540Z
UID:999-1552608000-1552694399@clgbeaulieu36.fr
SUMMARY:Arrêt des notes du 2e trimestre
DESCRIPTION:
URL:https://clgbeaulieu36.fr/evenement/arret-des-notes-du-2e-trimestre/
END:VEVENT
BEGIN:VEVENT
DTSTART;VALUE=DATE:20190318
DTEND;VALUE=DATE:20190329
DTSTAMP:20260424T192949
CREATED:20190208T181622Z
LAST-MODIFIED:20190208T183052Z
UID:1016-1552867200-1553817599@clgbeaulieu36.fr
SUMMARY:Conseils de classe du 2e trimestre
DESCRIPTION:
URL:https://clgbeaulieu36.fr/evenement/conseils-de-classe-du-2e-trimestre-2/
END:VEVENT
BEGIN:VEVENT
DTSTART;TZID=Europe/Paris:20190329T130000
DTEND;TZID=Europe/Paris:20190329T150000
DTSTAMP:20260424T192949
CREATED:20190301T165533Z
LAST-MODIFIED:20190303T110626Z
UID:1040-1553864400-1553871600@clgbeaulieu36.fr
SUMMARY:Little Shop Beaulieu - Vente de vêtements - Foyer
DESCRIPTION:Ouvert à tous au Foyer du collège.
URL:https://clgbeaulieu36.fr/evenement/little-shop-beaulieu-vente-vetements/
LOCATION:Foyer – Collège Beaulieu
END:VEVENT
END:VCALENDAR