BEGIN:VCALENDAR
VERSION:2.0
PRODID:-//Collège Beaulieu - Châteauroux - ECPv6.10.1.1//NONSGML v1.0//EN
CALSCALE:GREGORIAN
METHOD:PUBLISH
X-WR-CALNAME:Collège Beaulieu - Châteauroux
X-ORIGINAL-URL:https://clgbeaulieu36.fr
X-WR-CALDESC:Évènements pour Collège Beaulieu - Châteauroux
REFRESH-INTERVAL;VALUE=DURATION:PT1H
X-Robots-Tag:noindex
X-PUBLISHED-TTL:PT1H
BEGIN:VTIMEZONE
TZID:Europe/Paris
BEGIN:DAYLIGHT
TZOFFSETFROM:+0100
TZOFFSETTO:+0200
TZNAME:CEST
DTSTART:20180325T010000
END:DAYLIGHT
BEGIN:STANDARD
TZOFFSETFROM:+0200
TZOFFSETTO:+0100
TZNAME:CET
DTSTART:20181028T010000
END:STANDARD
END:VTIMEZONE
BEGIN:VEVENT
DTSTART;VALUE=DATE:20180224
DTEND;VALUE=DATE:20180312
DTSTAMP:20260425T130434
CREATED:20180128T192645Z
LAST-MODIFIED:20180128T193435Z
UID:473-1519430400-1520812799@clgbeaulieu36.fr
SUMMARY:Vacances d'hiver (Zone B)
DESCRIPTION:Les vacances d’hiver commenceront le vendredi 23 février après la classe et se termineront le lundi 12 mars 2017 au matin.
URL:https://clgbeaulieu36.fr/evenement/vacances-dhiver-zone-b/
END:VEVENT
BEGIN:VEVENT
DTSTART;VALUE=DATE:20180321
DTEND;VALUE=DATE:20180324
DTSTAMP:20260425T130434
CREATED:20180123T181852Z
LAST-MODIFIED:20180321T171202Z
UID:271-1521590400-1521849599@clgbeaulieu36.fr
SUMMARY:Arrêt des notes du 2e trimestre
DESCRIPTION:N.B. La fin des saisies des notes et appréciations des professeurs sur Pronote se fait trois jours ouvrés avant la date du Conseil de classe. \nLes bulletins de notes seront disponibles en ligne sur Pronote 48h après le Conseil de classe ou remis en mains propres aux familles\, selon les niveaux.
URL:https://clgbeaulieu36.fr/evenement/arret-des-notes-2e-trimestre/
END:VEVENT
BEGIN:VEVENT
DTSTART;VALUE=DATE:20180323
DTEND;VALUE=DATE:20180404
DTSTAMP:20260425T130434
CREATED:20180123T184210Z
LAST-MODIFIED:20180321T172141Z
UID:285-1521763200-1522799999@clgbeaulieu36.fr
SUMMARY:Conseils de classe du 2e trimestre
DESCRIPTION:Téléchargez le planning au format PDF en cliquant sur le lien ci-dessous : \nPlanning des conseils de classe du 2 trimestre
URL:https://clgbeaulieu36.fr/evenement/conseils-de-classe-du-2e-trimestre/
END:VEVENT
END:VCALENDAR