BEGIN:VCALENDAR
VERSION:2.0
PRODID:-//Collège Beaulieu - Châteauroux - ECPv6.10.1.1//NONSGML v1.0//EN
CALSCALE:GREGORIAN
METHOD:PUBLISH
X-ORIGINAL-URL:https://clgbeaulieu36.fr
X-WR-CALDESC:Évènements pour Collège Beaulieu - Châteauroux
REFRESH-INTERVAL;VALUE=DURATION:PT1H
X-Robots-Tag:noindex
X-PUBLISHED-TTL:PT1H
BEGIN:VTIMEZONE
TZID:Europe/Paris
BEGIN:DAYLIGHT
TZOFFSETFROM:+0100
TZOFFSETTO:+0200
TZNAME:CEST
DTSTART:20180325T010000
END:DAYLIGHT
BEGIN:STANDARD
TZOFFSETFROM:+0200
TZOFFSETTO:+0100
TZNAME:CET
DTSTART:20181028T010000
END:STANDARD
END:VTIMEZONE
BEGIN:VEVENT
DTSTART;TZID=Europe/Paris:20180125T080000
DTEND;TZID=Europe/Paris:20180126T130000
DTSTAMP:20260425T161855
CREATED:20180123T182838Z
LAST-MODIFIED:20180123T182838Z
UID:274-1516867200-1516971600@clgbeaulieu36.fr
SUMMARY:DNB Blanc n°1
DESCRIPTION:
URL:https://clgbeaulieu36.fr/evenement/dnb-blanc-n1/
END:VEVENT
BEGIN:VEVENT
DTSTART;TZID=Europe/Paris:20180126T131000
DTEND;TZID=Europe/Paris:20180126T151500
DTSTAMP:20260425T161855
CREATED:20180123T182930Z
LAST-MODIFIED:20180123T183435Z
UID:276-1516972200-1516979700@clgbeaulieu36.fr
SUMMARY:3e : Forum de l'orientation
DESCRIPTION:
URL:https://clgbeaulieu36.fr/evenement/3e-forum-de-lorientation/
END:VEVENT
BEGIN:VEVENT
DTSTART;VALUE=DATE:20180129
DTEND;VALUE=DATE:20180130
DTSTAMP:20260425T161855
CREATED:20180123T183655Z
LAST-MODIFIED:20180128T230207Z
UID:281-1517184000-1517270399@clgbeaulieu36.fr
SUMMARY:Formation des enseignants
DESCRIPTION:Une grande partie des enseignants du collège sera en formation ce lundi 29 janvier entre 8h30 et 17h00. En conséquence\, de nombreux cours sont annulés. Les familles voudront bien se reporter à Pronote (cliquez ici).
URL:https://clgbeaulieu36.fr/evenement/formation-des-enseignants/
END:VEVENT
END:VCALENDAR