BEGIN:VCALENDAR
VERSION:2.0
PRODID:-//Collège Beaulieu - Châteauroux - ECPv6.10.1.1//NONSGML v1.0//EN
CALSCALE:GREGORIAN
METHOD:PUBLISH
X-WR-CALNAME:Collège Beaulieu - Châteauroux
X-ORIGINAL-URL:https://clgbeaulieu36.fr
X-WR-CALDESC:Évènements pour Collège Beaulieu - Châteauroux
REFRESH-INTERVAL;VALUE=DURATION:PT1H
X-Robots-Tag:noindex
X-PUBLISHED-TTL:PT1H
BEGIN:VTIMEZONE
TZID:Europe/Paris
BEGIN:DAYLIGHT
TZOFFSETFROM:+0100
TZOFFSETTO:+0200
TZNAME:CEST
DTSTART:20210328T010000
END:DAYLIGHT
BEGIN:STANDARD
TZOFFSETFROM:+0200
TZOFFSETTO:+0100
TZNAME:CET
DTSTART:20211031T010000
END:STANDARD
END:VTIMEZONE
BEGIN:VEVENT
DTSTART;TZID=Europe/Paris:20210902T082000
DTEND;TZID=Europe/Paris:20210902T165500
DTSTAMP:20260422T221724
CREATED:20210708T162642Z
LAST-MODIFIED:20210709T182418Z
UID:3299-1630570800-1630601700@clgbeaulieu36.fr
SUMMARY:6e et ULIS : rentrée des classes
DESCRIPTION:Les niveaux 5e\, 4e et 3e rentrent le lendemain\, vendredi 3 septembre 2021 à 8h20.
URL:https://clgbeaulieu36.fr/evenement/6e-et-ulis-rentree-des-classes/
END:VEVENT
END:VCALENDAR