BEGIN:VCALENDAR
VERSION:2.0
PRODID:-//Collège Beaulieu - Châteauroux - ECPv6.10.1.1//NONSGML v1.0//EN
CALSCALE:GREGORIAN
METHOD:PUBLISH
X-ORIGINAL-URL:https://clgbeaulieu36.fr
X-WR-CALDESC:Évènements pour Collège Beaulieu - Châteauroux
REFRESH-INTERVAL;VALUE=DURATION:PT1H
X-Robots-Tag:noindex
X-PUBLISHED-TTL:PT1H
BEGIN:VTIMEZONE
TZID:Europe/Paris
BEGIN:DAYLIGHT
TZOFFSETFROM:+0100
TZOFFSETTO:+0200
TZNAME:CEST
DTSTART:20210328T010000
END:DAYLIGHT
BEGIN:STANDARD
TZOFFSETFROM:+0200
TZOFFSETTO:+0100
TZNAME:CET
DTSTART:20211031T010000
END:STANDARD
END:VTIMEZONE
BEGIN:VEVENT
DTSTART;VALUE=DATE:20210707
DTEND;VALUE=DATE:20210902
DTSTAMP:20260422T235117
CREATED:20200820T121713Z
LAST-MODIFIED:20210211T153556Z
UID:2225-1625616000-1630540799@clgbeaulieu36.fr
SUMMARY:Vacances d'été
DESCRIPTION:Vacances d’été : du mardi 6 juillet 2021 après la classe au jeudi 2 septembre 2021 au matin.
URL:https://clgbeaulieu36.fr/evenement/vacances-dete-4/
END:VEVENT
BEGIN:VEVENT
DTSTART;VALUE=DATE:20210714
DTEND;VALUE=DATE:20210825
DTSTAMP:20260422T235117
CREATED:20210714T134351Z
LAST-MODIFIED:20210714T134402Z
UID:3311-1626220800-1629849599@clgbeaulieu36.fr
SUMMARY:Fermeture du collège
DESCRIPTION:
URL:https://clgbeaulieu36.fr/evenement/fermeture-du-college/
END:VEVENT
END:VCALENDAR