BEGIN:VCALENDAR
VERSION:2.0
PRODID:-//Collège Beaulieu - Châteauroux - ECPv6.10.1.1//NONSGML v1.0//EN
CALSCALE:GREGORIAN
METHOD:PUBLISH
X-ORIGINAL-URL:https://clgbeaulieu36.fr
X-WR-CALDESC:Évènements pour Collège Beaulieu - Châteauroux
REFRESH-INTERVAL;VALUE=DURATION:PT1H
X-Robots-Tag:noindex
X-PUBLISHED-TTL:PT1H
BEGIN:VTIMEZONE
TZID:Europe/Paris
BEGIN:DAYLIGHT
TZOFFSETFROM:+0100
TZOFFSETTO:+0200
TZNAME:CEST
DTSTART:20210328T010000
END:DAYLIGHT
BEGIN:STANDARD
TZOFFSETFROM:+0200
TZOFFSETTO:+0100
TZNAME:CET
DTSTART:20211031T010000
END:STANDARD
END:VTIMEZONE
BEGIN:VEVENT
DTSTART;VALUE=DATE:20210524
DTEND;VALUE=DATE:20210525
DTSTAMP:20260423T044150
CREATED:20200820T121606Z
LAST-MODIFIED:20200820T121606Z
UID:2223-1621814400-1621900799@clgbeaulieu36.fr
SUMMARY:Lundi 24 mai 2021 (Lundi de Pentecôte) : Férié (pas de classe)
DESCRIPTION:Lundi 24 mai 2021 (Lundi de Pentecôte) : Férié (pas de classe)
URL:https://clgbeaulieu36.fr/evenement/lundi-24-mai-2021-lundi-de-pentecote-ferie-pas-de-classe/
END:VEVENT
END:VCALENDAR