BEGIN:VCALENDAR
VERSION:2.0
PRODID:-//Collège Beaulieu - Châteauroux - ECPv6.10.1.1//NONSGML v1.0//EN
CALSCALE:GREGORIAN
METHOD:PUBLISH
X-ORIGINAL-URL:https://clgbeaulieu36.fr
X-WR-CALDESC:Évènements pour Collège Beaulieu - Châteauroux
REFRESH-INTERVAL;VALUE=DURATION:PT1H
X-Robots-Tag:noindex
X-PUBLISHED-TTL:PT1H
BEGIN:VTIMEZONE
TZID:Europe/Paris
BEGIN:DAYLIGHT
TZOFFSETFROM:+0100
TZOFFSETTO:+0200
TZNAME:CEST
DTSTART:20210328T010000
END:DAYLIGHT
BEGIN:STANDARD
TZOFFSETFROM:+0200
TZOFFSETTO:+0100
TZNAME:CET
DTSTART:20211031T010000
END:STANDARD
END:VTIMEZONE
BEGIN:VEVENT
DTSTART;TZID=Europe/Paris:20210512T122000
DTEND;TZID=Europe/Paris:20210516T235900
DTSTAMP:20260423T044148
CREATED:20200820T121411Z
LAST-MODIFIED:20200820T121525Z
UID:2221-1620822000-1621209540@clgbeaulieu36.fr
SUMMARY:Pont de l'Ascension (cours vaqués)
DESCRIPTION:Pont de l’Ascension : du mercredi 12 mai 2021 après la classe au lundi 17 mai 2021 au matin (pas de classe)
URL:https://clgbeaulieu36.fr/evenement/pont-de-lascension-cours-vaques/
END:VEVENT
END:VCALENDAR