BEGIN:VCALENDAR
VERSION:2.0
PRODID:-//Collège Beaulieu - Châteauroux - ECPv6.10.1.1//NONSGML v1.0//EN
CALSCALE:GREGORIAN
METHOD:PUBLISH
X-ORIGINAL-URL:https://clgbeaulieu36.fr
X-WR-CALDESC:Évènements pour Collège Beaulieu - Châteauroux
REFRESH-INTERVAL;VALUE=DURATION:PT1H
X-Robots-Tag:noindex
X-PUBLISHED-TTL:PT1H
BEGIN:VTIMEZONE
TZID:Europe/Paris
BEGIN:DAYLIGHT
TZOFFSETFROM:+0100
TZOFFSETTO:+0200
TZNAME:CEST
DTSTART:20210328T010000
END:DAYLIGHT
BEGIN:STANDARD
TZOFFSETFROM:+0200
TZOFFSETTO:+0100
TZNAME:CET
DTSTART:20211031T010000
END:STANDARD
END:VTIMEZONE
BEGIN:VEVENT
DTSTART;VALUE=DATE:20210503
DTEND;VALUE=DATE:20210504
DTSTAMP:20260423T044349
CREATED:20210401T123910Z
LAST-MODIFIED:20210401T124727Z
UID:3018-1620000000-1620086399@clgbeaulieu36.fr
SUMMARY:Reprise des cours en présentiel
DESCRIPTION:Conformément aux annonces gouvernementales\, les cours reprendront en présentiel au collège\, pour tous les élèves\, à partir du lundi 3 mai 8h20 (semaine 18) selon l’emploi du temps affiché sur Pronote. 
URL:https://clgbeaulieu36.fr/evenement/reprise-des-cours-en-presentiel-pour-tous/
END:VEVENT
END:VCALENDAR