BEGIN:VCALENDAR
VERSION:2.0
PRODID:-//Collège Beaulieu - Châteauroux - ECPv6.10.1.1//NONSGML v1.0//EN
CALSCALE:GREGORIAN
METHOD:PUBLISH
X-WR-CALNAME:Collège Beaulieu - Châteauroux
X-ORIGINAL-URL:https://clgbeaulieu36.fr
X-WR-CALDESC:Évènements pour Collège Beaulieu - Châteauroux
REFRESH-INTERVAL;VALUE=DURATION:PT1H
X-Robots-Tag:noindex
X-PUBLISHED-TTL:PT1H
BEGIN:VTIMEZONE
TZID:Europe/Paris
BEGIN:DAYLIGHT
TZOFFSETFROM:+0100
TZOFFSETTO:+0200
TZNAME:CEST
DTSTART:20210328T010000
END:DAYLIGHT
BEGIN:STANDARD
TZOFFSETFROM:+0200
TZOFFSETTO:+0100
TZNAME:CET
DTSTART:20211031T010000
END:STANDARD
END:VTIMEZONE
BEGIN:VEVENT
DTSTART;VALUE=DATE:20210220
DTEND;VALUE=DATE:20210308
DTSTAMP:20260423T094032
CREATED:20200820T121022Z
LAST-MODIFIED:20200820T121022Z
UID:2217-1613779200-1615161599@clgbeaulieu36.fr
SUMMARY:Vacances d'hiver (zone B)
DESCRIPTION:Vacances d’hiver (zone B) : du vendredi 19 février 2021 après la classe au lundi 8 mars 2021 au matin
URL:https://clgbeaulieu36.fr/evenement/vacances-dhiver-zone-b-4/
END:VEVENT
END:VCALENDAR