BEGIN:VCALENDAR
VERSION:2.0
PRODID:-//Collège Beaulieu - Châteauroux - ECPv6.10.1.1//NONSGML v1.0//EN
CALSCALE:GREGORIAN
METHOD:PUBLISH
X-ORIGINAL-URL:https://clgbeaulieu36.fr
X-WR-CALDESC:Évènements pour Collège Beaulieu - Châteauroux
REFRESH-INTERVAL;VALUE=DURATION:PT1H
X-Robots-Tag:noindex
X-PUBLISHED-TTL:PT1H
BEGIN:VTIMEZONE
TZID:Europe/Paris
BEGIN:DAYLIGHT
TZOFFSETFROM:+0100
TZOFFSETTO:+0200
TZNAME:CEST
DTSTART:20200329T010000
END:DAYLIGHT
BEGIN:STANDARD
TZOFFSETFROM:+0200
TZOFFSETTO:+0100
TZNAME:CET
DTSTART:20201025T010000
END:STANDARD
END:VTIMEZONE
BEGIN:VEVENT
DTSTART;TZID=Europe/Paris:20201015T160000
DTEND;TZID=Europe/Paris:20201015T210000
DTSTAMP:20260423T174618
CREATED:20201020T111840Z
LAST-MODIFIED:20201020T111840Z
UID:2431-1602777600-1602795600@clgbeaulieu36.fr
SUMMARY:Réunion parents-professeurs - 6e
DESCRIPTION:
URL:https://clgbeaulieu36.fr/evenement/reunion-parents-professeurs-6e/
END:VEVENT
END:VCALENDAR