BEGIN:VCALENDAR
VERSION:2.0
PRODID:-//Collège Beaulieu - Châteauroux - ECPv6.10.1.1//NONSGML v1.0//EN
CALSCALE:GREGORIAN
METHOD:PUBLISH
X-WR-CALNAME:Collège Beaulieu - Châteauroux
X-ORIGINAL-URL:https://clgbeaulieu36.fr
X-WR-CALDESC:Évènements pour Collège Beaulieu - Châteauroux
REFRESH-INTERVAL;VALUE=DURATION:PT1H
X-Robots-Tag:noindex
X-PUBLISHED-TTL:PT1H
BEGIN:VTIMEZONE
TZID:Europe/Paris
BEGIN:DAYLIGHT
TZOFFSETFROM:+0100
TZOFFSETTO:+0200
TZNAME:CEST
DTSTART:20190331T010000
END:DAYLIGHT
BEGIN:STANDARD
TZOFFSETFROM:+0200
TZOFFSETTO:+0100
TZNAME:CET
DTSTART:20191027T010000
END:STANDARD
END:VTIMEZONE
BEGIN:VEVENT
DTSTART;TZID=Europe/Paris:20190702T090000
DTEND;TZID=Europe/Paris:20190702T110000
DTSTAMP:20260424T150340
CREATED:20190208T080001Z
LAST-MODIFIED:20190625T202800Z
UID:1010-1562058000-1562065200@clgbeaulieu36.fr
SUMMARY:DNB 2019 - Épreuve d'histoire-géographie-EMC
DESCRIPTION:
URL:https://clgbeaulieu36.fr/evenement/dnb-2019-epreuve-dhistoire-geographie-emc/
END:VEVENT
BEGIN:VEVENT
DTSTART;TZID=Europe/Paris:20190702T133000
DTEND;TZID=Europe/Paris:20190702T143000
DTSTAMP:20260424T150340
CREATED:20190208T181251Z
LAST-MODIFIED:20190625T202837Z
UID:1012-1562074200-1562077800@clgbeaulieu36.fr
SUMMARY:DNB 2019 - Épreuve de sciences et technologie
DESCRIPTION:
URL:https://clgbeaulieu36.fr/evenement/dnb-2019-epreuve-de-sciences-et-technologie/
END:VEVENT
END:VCALENDAR