BEGIN:VCALENDAR
VERSION:2.0
PRODID:-//Collège Beaulieu - Châteauroux - ECPv6.10.1.1//NONSGML v1.0//EN
CALSCALE:GREGORIAN
METHOD:PUBLISH
X-ORIGINAL-URL:https://clgbeaulieu36.fr
X-WR-CALDESC:Évènements pour Collège Beaulieu - Châteauroux
REFRESH-INTERVAL;VALUE=DURATION:PT1H
X-Robots-Tag:noindex
X-PUBLISHED-TTL:PT1H
BEGIN:VTIMEZONE
TZID:Europe/Paris
BEGIN:DAYLIGHT
TZOFFSETFROM:+0100
TZOFFSETTO:+0200
TZNAME:CEST
DTSTART:20190331T010000
END:DAYLIGHT
BEGIN:STANDARD
TZOFFSETFROM:+0200
TZOFFSETTO:+0100
TZNAME:CET
DTSTART:20191027T010000
END:STANDARD
END:VTIMEZONE
BEGIN:VEVENT
DTSTART;TZID=Europe/Paris:20190626T113000
DTEND;TZID=Europe/Paris:20190626T123000
DTSTAMP:20260424T161448
CREATED:20190625T203218Z
LAST-MODIFIED:20190625T203218Z
UID:1270-1561548600-1561552200@clgbeaulieu36.fr
SUMMARY:Fin des cous pour les 6e\, 5e\, 4e et 3e
DESCRIPTION:Le collège étant centre d’examen cette année\, les cours prendront fin définitivement le mercredi 26 juin 2019 à 11h30. \nLes enseignants se réuniront en équipe et en conseils d’enseignement les 26 et 27 juin. \nLes épreuves du DNB se tiendront les 1er et 2 juillet 2019. Les corrections se feront les 4 et 5 juillet. \n 
URL:https://clgbeaulieu36.fr/evenement/fin-des-cous-pour-les-6e-5e-4e-et-3e/
END:VEVENT
END:VCALENDAR