BEGIN:VCALENDAR
VERSION:2.0
PRODID:-//Collège Beaulieu - Châteauroux - ECPv6.10.1.1//NONSGML v1.0//EN
CALSCALE:GREGORIAN
METHOD:PUBLISH
X-WR-CALNAME:Collège Beaulieu - Châteauroux
X-ORIGINAL-URL:https://clgbeaulieu36.fr
X-WR-CALDESC:Évènements pour Collège Beaulieu - Châteauroux
REFRESH-INTERVAL;VALUE=DURATION:PT1H
X-Robots-Tag:noindex
X-PUBLISHED-TTL:PT1H
BEGIN:VTIMEZONE
TZID:Europe/Paris
BEGIN:DAYLIGHT
TZOFFSETFROM:+0100
TZOFFSETTO:+0200
TZNAME:CEST
DTSTART:20190331T010000
END:DAYLIGHT
BEGIN:STANDARD
TZOFFSETFROM:+0200
TZOFFSETTO:+0100
TZNAME:CET
DTSTART:20191027T010000
END:STANDARD
END:VTIMEZONE
BEGIN:VEVENT
DTSTART;TZID=Europe/Paris:20190208T170000
DTEND;TZID=Europe/Paris:20190225T082000
DTSTAMP:20260424T221624
CREATED:20190208T181740Z
LAST-MODIFIED:20190208T182940Z
UID:1018-1549645200-1551082800@clgbeaulieu36.fr
SUMMARY:Vacances d'hiver (Zone B)
DESCRIPTION:Fin des cours le vendredi 8 février au soir. \nReprise des cours le lundi 25 février au matin.
URL:https://clgbeaulieu36.fr/evenement/vacances-dhiver-zone-b-2/
END:VEVENT
END:VCALENDAR