BEGIN:VCALENDAR
VERSION:2.0
PRODID:-//Collège Beaulieu - Châteauroux - ECPv6.10.1.1//NONSGML v1.0//EN
CALSCALE:GREGORIAN
METHOD:PUBLISH
X-ORIGINAL-URL:https://clgbeaulieu36.fr
X-WR-CALDESC:Évènements pour Collège Beaulieu - Châteauroux
REFRESH-INTERVAL;VALUE=DURATION:PT1H
X-Robots-Tag:noindex
X-PUBLISHED-TTL:PT1H
BEGIN:VTIMEZONE
TZID:Europe/Paris
BEGIN:DAYLIGHT
TZOFFSETFROM:+0100
TZOFFSETTO:+0200
TZNAME:CEST
DTSTART:20180325T010000
END:DAYLIGHT
BEGIN:STANDARD
TZOFFSETFROM:+0200
TZOFFSETTO:+0100
TZNAME:CET
DTSTART:20181028T010000
END:STANDARD
END:VTIMEZONE
BEGIN:VEVENT
DTSTART;VALUE=DATE:20180903
DTEND;VALUE=DATE:20180904
DTSTAMP:20260425T054323
CREATED:20180831T140035Z
LAST-MODIFIED:20180901T094648Z
UID:485-1535932800-1536019199@clgbeaulieu36.fr
SUMMARY:Rentrée des classes 2018-2019
DESCRIPTION:Rentrée des classes 2018-2019 le lundi 3 septembre 2018 à 8h25. \n\nRentrée des élèves de 6e : lundi 3 septembre à 8h25 avec appel nominatif dans la cour de récréation par le Principal\n\n8h25-11h25 : en classe avec les professeurs principaux. Début des cours dès 13h55\, selon l’emploi du temps. \nRéunion avec les parents d’élèves de 6e : 3 septembre soit à 9h\, soit à 18h \n\nRentrée des élèves de 5e\, 4e et 3e : lundi 3 septembre à 8h25 par voie d’affichage sous le préau\n\n8h25-10h15 : en classe avec les professeurs principaux. Début des cours dès 10h30\, selon l’emploi du temps. \nRéunion avec les parents d’élèves de 5e\, 4e et 3e : 13 septembre à 18h
URL:https://clgbeaulieu36.fr/evenement/rentree-des-classes-2018-2019/
END:VEVENT
END:VCALENDAR