BEGIN:VCALENDAR
VERSION:2.0
PRODID:-//Collège Beaulieu - Châteauroux - ECPv6.10.1.1//NONSGML v1.0//EN
CALSCALE:GREGORIAN
METHOD:PUBLISH
X-ORIGINAL-URL:https://clgbeaulieu36.fr
X-WR-CALDESC:Évènements pour Collège Beaulieu - Châteauroux
REFRESH-INTERVAL;VALUE=DURATION:PT1H
X-Robots-Tag:noindex
X-PUBLISHED-TTL:PT1H
BEGIN:VTIMEZONE
TZID:Europe/Paris
BEGIN:DAYLIGHT
TZOFFSETFROM:+0100
TZOFFSETTO:+0200
TZNAME:CEST
DTSTART:20180325T010000
END:DAYLIGHT
BEGIN:STANDARD
TZOFFSETFROM:+0200
TZOFFSETTO:+0100
TZNAME:CET
DTSTART:20181028T010000
END:STANDARD
END:VTIMEZONE
BEGIN:VEVENT
DTSTART;TZID=Europe/Paris:20180425T113000
DTEND;TZID=Europe/Paris:20180514T082000
DTSTAMP:20260425T165949
CREATED:20180128T192927Z
LAST-MODIFIED:20180406T154522Z
UID:475-1524655800-1526286000@clgbeaulieu36.fr
SUMMARY:Vacances de printemps (Zone B)
DESCRIPTION:Par arrêté en date du 20 septembre 2017\, la Rectrice de l’Académie d’Orléans-Tours a modifié le calendrier scolaire concernant les congés de printemps pour l’Académie d’Orléans-Tours (Zone B). \nDans l’académie d’Orléans-Tours\, les vacances de printemps se dérouleront du mercredi 25 avril 2018 après la classe au lundi 14 mai 2018 (reprise des cours le matin)\, au lieu du 21 avril au 7 mai. \nCette disposition est prise à titre exceptionnel\, après consultation au niveau régional selon les modalités habituelles. Elle permettra d’éviter les inconvénients initiaux d’une semaine de rentrée perturbée par deux jours fériés (mardi 8 mai et jeudi 10 mai). Avec ce nouveau calendrier\, les élèves bénéficieront strictement du même nombre de jours de cours que prévu initialement. \nEn application de l’article D. 521-1 du Code de l’éducation\, les dates fixées par le calendrier scolaire national peuvent en effet\, sous certaines conditions\, être modifiées localement par le recteur d’académie si des circonstances sont susceptibles de mettre en difficulté\, dans son académie\, le fonctionnement du service public d’enseignement.  \nSource : Académie d’Orléans-Tours
URL:https://clgbeaulieu36.fr/evenement/vacances-de-printemps-zone-b/
END:VEVENT
END:VCALENDAR