BEGIN:VCALENDAR
VERSION:2.0
PRODID:-//Collège Beaulieu - Châteauroux - ECPv6.10.1.1//NONSGML v1.0//EN
CALSCALE:GREGORIAN
METHOD:PUBLISH
X-ORIGINAL-URL:https://clgbeaulieu36.fr
X-WR-CALDESC:Évènements pour Collège Beaulieu - Châteauroux
REFRESH-INTERVAL;VALUE=DURATION:PT1H
X-Robots-Tag:noindex
X-PUBLISHED-TTL:PT1H
BEGIN:VTIMEZONE
TZID:Europe/Paris
BEGIN:DAYLIGHT
TZOFFSETFROM:+0100
TZOFFSETTO:+0200
TZNAME:CEST
DTSTART:20180325T010000
END:DAYLIGHT
BEGIN:STANDARD
TZOFFSETFROM:+0200
TZOFFSETTO:+0100
TZNAME:CET
DTSTART:20181028T010000
END:STANDARD
END:VTIMEZONE
BEGIN:VEVENT
DTSTART;TZID=Europe/Paris:20180415T173000
DTEND;TZID=Europe/Paris:20180420T090000
DTSTAMP:20260425T165835
CREATED:20180406T152354Z
LAST-MODIFIED:20180406T152354Z
UID:669-1523813400-1524214800@clgbeaulieu36.fr
SUMMARY:Voyage en Allemagne
DESCRIPTION:
URL:https://clgbeaulieu36.fr/evenement/voyage-en-allemagne/
END:VEVENT
BEGIN:VEVENT
DTSTART;TZID=Europe/Paris:20180415T230000
DTEND;TZID=Europe/Paris:20180420T163000
DTSTAMP:20260425T165835
CREATED:20180406T151841Z
LAST-MODIFIED:20180406T151841Z
UID:665-1523833200-1524241800@clgbeaulieu36.fr
SUMMARY:Voyage en Espagne
DESCRIPTION:
URL:https://clgbeaulieu36.fr/evenement/voyage-en-espagne/
END:VEVENT
END:VCALENDAR