BEGIN:VCALENDAR
VERSION:2.0
PRODID:-//Collège Beaulieu - Châteauroux - ECPv6.10.1.1//NONSGML v1.0//EN
CALSCALE:GREGORIAN
METHOD:PUBLISH
X-ORIGINAL-URL:https://clgbeaulieu36.fr
X-WR-CALDESC:Évènements pour Collège Beaulieu - Châteauroux
REFRESH-INTERVAL;VALUE=DURATION:PT1H
X-Robots-Tag:noindex
X-PUBLISHED-TTL:PT1H
BEGIN:VTIMEZONE
TZID:Europe/Paris
BEGIN:DAYLIGHT
TZOFFSETFROM:+0100
TZOFFSETTO:+0200
TZNAME:CEST
DTSTART:20180325T010000
END:DAYLIGHT
BEGIN:STANDARD
TZOFFSETFROM:+0200
TZOFFSETTO:+0100
TZNAME:CET
DTSTART:20181028T010000
END:STANDARD
END:VTIMEZONE
BEGIN:VEVENT
DTSTART;TZID=Europe/Paris:20180412T082500
DTEND;TZID=Europe/Paris:20180413T114500
DTSTAMP:20260425T130556
CREATED:20180406T151400Z
LAST-MODIFIED:20180406T151400Z
UID:659-1523521500-1523619900@clgbeaulieu36.fr
SUMMARY:Brevet blanc n°2
DESCRIPTION:
URL:https://clgbeaulieu36.fr/evenement/brevet-blanc-n2/
END:VEVENT
BEGIN:VEVENT
DTSTART;TZID=Europe/Paris:20180413T083000
DTEND;TZID=Europe/Paris:20180413T123000
DTSTAMP:20260425T130556
CREATED:20180406T154938Z
LAST-MODIFIED:20180406T154938Z
UID:684-1523608200-1523622600@clgbeaulieu36.fr
SUMMARY:Rencontre jeunes chercheurs
DESCRIPTION:Cette sortie pédagogique ne concerne que quelques élèves de 5B et 5C.
URL:https://clgbeaulieu36.fr/evenement/rencontre-jeunes-chercheurs/
END:VEVENT
BEGIN:VEVENT
DTSTART;TZID=Europe/Paris:20180413T130000
DTEND;TZID=Europe/Paris:20180413T135000
DTSTAMP:20260425T130556
CREATED:20180406T155031Z
LAST-MODIFIED:20180406T155031Z
UID:686-1523624400-1523627400@clgbeaulieu36.fr
SUMMARY:Conseil de la vie collégienne (CVC)
DESCRIPTION:
URL:https://clgbeaulieu36.fr/evenement/conseil-de-la-vie-collegienne-cvc-2/
END:VEVENT
END:VCALENDAR