BEGIN:VCALENDAR
VERSION:2.0
PRODID:-//Collège Beaulieu - Châteauroux - ECPv6.10.1.1//NONSGML v1.0//EN
CALSCALE:GREGORIAN
METHOD:PUBLISH
X-ORIGINAL-URL:https://clgbeaulieu36.fr
X-WR-CALDESC:Évènements pour Collège Beaulieu - Châteauroux
REFRESH-INTERVAL;VALUE=DURATION:PT1H
X-Robots-Tag:noindex
X-PUBLISHED-TTL:PT1H
BEGIN:VTIMEZONE
TZID:Europe/Paris
BEGIN:DAYLIGHT
TZOFFSETFROM:+0100
TZOFFSETTO:+0200
TZNAME:CEST
DTSTART:20180325T010000
END:DAYLIGHT
BEGIN:STANDARD
TZOFFSETFROM:+0200
TZOFFSETTO:+0100
TZNAME:CET
DTSTART:20181028T010000
END:STANDARD
END:VTIMEZONE
BEGIN:VEVENT
DTSTART;TZID=Europe/Paris:20180410T170000
DTEND;TZID=Europe/Paris:20180410T191500
DTSTAMP:20260425T130544
CREATED:20180406T151048Z
LAST-MODIFIED:20180406T151048Z
UID:657-1523379600-1523387700@clgbeaulieu36.fr
SUMMARY:Réunion parents-professeurs principaux 6e/3e
DESCRIPTION:
URL:https://clgbeaulieu36.fr/evenement/reunion-parents-professeurs-principaux-6e-3e/
END:VEVENT
END:VCALENDAR